BEGIN:VCALENDAR
VERSION:2.0
BEGIN:VEVENT
URL:http://zhenihinevesta.com/moiastranitca/9/viewevent/vstrechiposredam 
DTSTART:20170208T200000
DTEND:20170208T223000
SUMMARY:Встречи по средам 
DESCRIPTION:<p>http://voprosbar.com.ua/ua/  - приходите сами и приводите своих высоких друзей<br /></p>
LOCATION:Вопрос Бар, ул. Шота Руставели, 19, Киев, Украина
END:VEVENT
END:VCALENDAR