BEGIN:VCALENDAR
VERSION:2.0
BEGIN:VEVENT
URL:http://zhenihinevesta.com/moiastranitca/gruppypointeresam/vysokieznakomstva-kiev/viewevent/vstrechivsreduvecherom 
DTSTART:20170424T200000
DTEND:20170424T223000
SUMMARY:Встречи в среду вечером
RRULE:FREQ=WEEKLY;UNTIL=20170820T000000
DESCRIPTION:<p>http://voprosbar.com.ua/ua/  - приходите сами и приводите своих высоких одиноких друзей, ищущих себе пару</p>
LOCATION:Вопрос Бар, ул. Шота Руставели, 19, Киев, Украина
END:VEVENT
END:VCALENDAR